BEGIN:VCALENDAR
VERSION:2.0
PRODID:-// - ECPv6.15.20//NONSGML v1.0//EN
CALSCALE:GREGORIAN
METHOD:PUBLISH
X-ORIGINAL-URL:http://www.naturschutz-taubergrund.de
X-WR-CALDESC:Veranstaltungen für 
REFRESH-INTERVAL;VALUE=DURATION:PT1H
X-Robots-Tag:noindex
X-PUBLISHED-TTL:PT1H
BEGIN:VTIMEZONE
TZID:Europe/Berlin
BEGIN:DAYLIGHT
TZOFFSETFROM:+0100
TZOFFSETTO:+0200
TZNAME:CEST
DTSTART:20220327T010000
END:DAYLIGHT
BEGIN:STANDARD
TZOFFSETFROM:+0200
TZOFFSETTO:+0100
TZNAME:CET
DTSTART:20221030T010000
END:STANDARD
BEGIN:DAYLIGHT
TZOFFSETFROM:+0100
TZOFFSETTO:+0200
TZNAME:CEST
DTSTART:20230326T010000
END:DAYLIGHT
BEGIN:STANDARD
TZOFFSETFROM:+0200
TZOFFSETTO:+0100
TZNAME:CET
DTSTART:20231029T010000
END:STANDARD
BEGIN:DAYLIGHT
TZOFFSETFROM:+0100
TZOFFSETTO:+0200
TZNAME:CEST
DTSTART:20240331T010000
END:DAYLIGHT
BEGIN:STANDARD
TZOFFSETFROM:+0200
TZOFFSETTO:+0100
TZNAME:CET
DTSTART:20241027T010000
END:STANDARD
END:VTIMEZONE
BEGIN:VEVENT
DTSTART;TZID=Europe/Berlin:20230309T170000
DTEND;TZID=Europe/Berlin:20230309T190000
DTSTAMP:20260424T130101
CREATED:20230131T060053Z
LAST-MODIFIED:20230226T194218Z
UID:7411-1678381200-1678388400@www.naturschutz-taubergrund.de
SUMMARY:Do. 09.03.2023 Vorstandssitzung 17:00 Uhr UWZ
DESCRIPTION:Einladung zur Vorstandssitzung (Gesamtvorstand)\, Do. 9.3.23 / 17 Uhr /UWZ \nLiebe Naturschutzfreunde im Gesamtvorstand\,  \nbei der NSG – Klausurtagung Ende Januar hatten wir angeregt und dann auch vereinbart\, zeitnahe eine weitere VS zu organisieren. \nDas zentrale Thema „Zukunft der NSG“ soll dabei weiter diskutiert und beraten werden. Wie inzwischen sicherlich allen bekannt ist\, wird es spätestens im nächsten Jahr 2024 (vor allem auch gesundheitsbedingte) personelle Veränderungen im Vorstand geben. Um darauf angemessen und für unsere Gruppe zukunftssicher reagieren zu können\, sollten oder müssen wir rechtzeitig nach Lösungen suchen. Sowohl was das Führungspersonal als auch was die künftige strukturelle und inhaltliche Ausrichtung der NSG betrifft. Ich bin mir sicher\, dass dies gut gelingen kann\, ja gelingen muss. Die Themen Natur-\, Umwelt- und Klimaschutz sind aktueller und drängender denn je. Unsere Gruppe wird dringend gebraucht\, weiterhin ihren konstruktiven Beitrag dafür zu leisten. Unser Mitgliederstand (435!) ist so hoch wie noch nie. Auf diesem Fundament und auf dieser Motivation\, sollte es uns doch gelingen\, die NSG gut in die Zukunft zu führen. \nIch würde mich freuen\, wenn möglichst viele Vorstandsmitglieder zu dieser VS kommen würden\, oder zumindest ihre Ideen und Lösungsvorschläge vorab einreichen. \nMit freundlichem Gruß \nJosef \n  TOPs / NSG-VS / Do. 9.3.2023 /17 Uhr / UWZ \n– Zukunft der NSG \n       Wie transportieren wir diese Thematik zu unseren Mitgliedern und auch in die Öffentlichkeit? \n       Wie behandeln wir diese Fragen bei der anstehenden JHV 23? \n– JHV 23 / noch zu klärende Fragen \n   Jubilare\, Vortrag u.a. \n– Investitionen / Wofür geben wir unser Geld aus? Anschaffungen? \n– Fragen\, Anträge/Sonstiges
URL:http://www.naturschutz-taubergrund.de/event/do-09-03-2023-vorstandssitzung-1700-uhr-uwz/
LOCATION:Umweltzentrum in MGH am kleinen Bahnübergang zum Kurpark\, Bad Mergentheim\, Herrenmühlstraße 24\, 97980
END:VEVENT
END:VCALENDAR