BEGIN:VCALENDAR
VERSION:2.0
PRODID:-// - ECPv6.15.20//NONSGML v1.0//EN
CALSCALE:GREGORIAN
METHOD:PUBLISH
X-ORIGINAL-URL:http://www.naturschutz-taubergrund.de
X-WR-CALDESC:Veranstaltungen für 
REFRESH-INTERVAL;VALUE=DURATION:PT1H
X-Robots-Tag:noindex
X-PUBLISHED-TTL:PT1H
BEGIN:VTIMEZONE
TZID:Europe/Berlin
BEGIN:DAYLIGHT
TZOFFSETFROM:+0100
TZOFFSETTO:+0200
TZNAME:CEST
DTSTART:20220327T010000
END:DAYLIGHT
BEGIN:STANDARD
TZOFFSETFROM:+0200
TZOFFSETTO:+0100
TZNAME:CET
DTSTART:20221030T010000
END:STANDARD
BEGIN:DAYLIGHT
TZOFFSETFROM:+0100
TZOFFSETTO:+0200
TZNAME:CEST
DTSTART:20230326T010000
END:DAYLIGHT
BEGIN:STANDARD
TZOFFSETFROM:+0200
TZOFFSETTO:+0100
TZNAME:CET
DTSTART:20231029T010000
END:STANDARD
BEGIN:DAYLIGHT
TZOFFSETFROM:+0100
TZOFFSETTO:+0200
TZNAME:CEST
DTSTART:20240331T010000
END:DAYLIGHT
BEGIN:STANDARD
TZOFFSETFROM:+0200
TZOFFSETTO:+0100
TZNAME:CET
DTSTART:20241027T010000
END:STANDARD
END:VTIMEZONE
BEGIN:VEVENT
DTSTART;TZID=Europe/Berlin:20230404T144500
DTEND;TZID=Europe/Berlin:20230404T170000
DTSTAMP:20260424T141343
CREATED:20230318T204416Z
LAST-MODIFIED:20230318T204416Z
UID:7628-1680619500-1680627600@www.naturschutz-taubergrund.de
SUMMARY:Di. 04.04.2023 14:45 Jubiläumsbäume pflanzen nähe Wildpark
DESCRIPTION:Di. 04.04.2023 14:45 Jubiläumsbäume pflanzen nähe Wildpark
URL:http://www.naturschutz-taubergrund.de/event/di-04-04-2023-1445-jubilaeumsbaeume-pflanzen-naehe-wildpark/
LOCATION:Wildpark Bushaltestelle\, Wildpark 1\, Bad Mergentheim\, 97980
END:VEVENT
END:VCALENDAR