BEGIN:VCALENDAR
VERSION:2.0
PRODID:-// - ECPv6.15.20//NONSGML v1.0//EN
CALSCALE:GREGORIAN
METHOD:PUBLISH
X-ORIGINAL-URL:http://www.naturschutz-taubergrund.de
X-WR-CALDESC:Veranstaltungen für 
REFRESH-INTERVAL;VALUE=DURATION:PT1H
X-Robots-Tag:noindex
X-PUBLISHED-TTL:PT1H
BEGIN:VTIMEZONE
TZID:Europe/Berlin
BEGIN:DAYLIGHT
TZOFFSETFROM:+0100
TZOFFSETTO:+0200
TZNAME:CEST
DTSTART:20220327T010000
END:DAYLIGHT
BEGIN:STANDARD
TZOFFSETFROM:+0200
TZOFFSETTO:+0100
TZNAME:CET
DTSTART:20221030T010000
END:STANDARD
BEGIN:DAYLIGHT
TZOFFSETFROM:+0100
TZOFFSETTO:+0200
TZNAME:CEST
DTSTART:20230326T010000
END:DAYLIGHT
BEGIN:STANDARD
TZOFFSETFROM:+0200
TZOFFSETTO:+0100
TZNAME:CET
DTSTART:20231029T010000
END:STANDARD
BEGIN:DAYLIGHT
TZOFFSETFROM:+0100
TZOFFSETTO:+0200
TZNAME:CEST
DTSTART:20240331T010000
END:DAYLIGHT
BEGIN:STANDARD
TZOFFSETFROM:+0200
TZOFFSETTO:+0100
TZNAME:CET
DTSTART:20241027T010000
END:STANDARD
END:VTIMEZONE
BEGIN:VEVENT
DTSTART;TZID=Europe/Berlin:20230408T100000
DTEND;TZID=Europe/Berlin:20230408T123000
DTSTAMP:20260424T172253
CREATED:20230403T202817Z
LAST-MODIFIED:20230406T080056Z
UID:7720-1680948000-1680957000@www.naturschutz-taubergrund.de
SUMMARY:Sa. 08.04.2023 Kindergruppe bekommt Einblick in die Igelhilfe
DESCRIPTION:Einladung der Tauberhüpfer zum 4. Aktionstag in 2023 \nHilfe für den Igel: Entdecke die Welt der stacheligen Tiere \nSamstag\, den 08.04.2023 von 10:00 Uhr – 12:30 Uhr \nTreffpunkt: Umweltzentrum in der Herrenmühlstraße 24\n\n \nLiebe Tauberhüpfer\, \nam Samstag\, 08. April treffen wir uns wieder zum 4. Aktionstag in diesem Jahr. Auf dem Programm stand eigentlich ein Besuch auf dem Geflügelhof Retzbach in Stuppach. Jedoch können wir aufgrund von mehreren aktiven Fällen des Vogelgrippevirus (in den benachbarten Landkreisen) nicht auf den Hof. \nKurzfristig könnten wir Frau Kilimann von der Igel-Nothilfe aus Schäftersheim gewinnen. Sie kümmert sich mit viel Herzblut bereits seit über 10 Jahren um unsere einheimischen Igelarten. Die Gefahren für unsere Igel sind vielfältig. Mittlerweile wurden fast 500 Tiere von Frau Kilimann aufgezogen\, behandelt\, gepäppelt\, medizinisch versorgt und überwintert. Sie berichtet aus erster Hand\, wie viel Zeit\, Kraft\, Geld und auch jede Menge Nerven diese Lebensaufgabe kostet\, aber jedes einzelne kleine Leben ist es wert! \nDas Leitungsteam\, Sabine und Sabrina\, freuen sich auf eure Teilnahme. \nWir bitten um Anmeldung bis Donnerstag\, 09.03.2023.\nAnmeldung über Mail:  s.neeser@naturschutz-taubergrund.de oder Telefon 0170-3072452. \n    \n(PS: Bei diesen Veranstaltungen werden Fotos gemacht. diese können auch für interne Publikationen und Dokumentationen veröffentlicht werden!)
URL:http://www.naturschutz-taubergrund.de/event/sa-08-04-2023-kindergruppe-besucht-den-gefluegelhof-undbedingt-anmelden/
LOCATION:Umweltzentrum in MGH am kleinen Bahnübergang zum Kurpark\, Bad Mergentheim\, Herrenmühlstraße 24\, 97980
END:VEVENT
END:VCALENDAR