BEGIN:VCALENDAR
VERSION:2.0
PRODID:-// - ECPv6.15.20//NONSGML v1.0//EN
CALSCALE:GREGORIAN
METHOD:PUBLISH
X-ORIGINAL-URL:http://www.naturschutz-taubergrund.de
X-WR-CALDESC:Veranstaltungen für 
REFRESH-INTERVAL;VALUE=DURATION:PT1H
X-Robots-Tag:noindex
X-PUBLISHED-TTL:PT1H
BEGIN:VTIMEZONE
TZID:Europe/Berlin
BEGIN:DAYLIGHT
TZOFFSETFROM:+0100
TZOFFSETTO:+0200
TZNAME:CEST
DTSTART:20220327T010000
END:DAYLIGHT
BEGIN:STANDARD
TZOFFSETFROM:+0200
TZOFFSETTO:+0100
TZNAME:CET
DTSTART:20221030T010000
END:STANDARD
BEGIN:DAYLIGHT
TZOFFSETFROM:+0100
TZOFFSETTO:+0200
TZNAME:CEST
DTSTART:20230326T010000
END:DAYLIGHT
BEGIN:STANDARD
TZOFFSETFROM:+0200
TZOFFSETTO:+0100
TZNAME:CET
DTSTART:20231029T010000
END:STANDARD
BEGIN:DAYLIGHT
TZOFFSETFROM:+0100
TZOFFSETTO:+0200
TZNAME:CEST
DTSTART:20240331T010000
END:DAYLIGHT
BEGIN:STANDARD
TZOFFSETFROM:+0200
TZOFFSETTO:+0100
TZNAME:CET
DTSTART:20241027T010000
END:STANDARD
END:VTIMEZONE
BEGIN:VEVENT
DTSTART;TZID=Europe/Berlin:20230413T133000
DTEND;TZID=Europe/Berlin:20230413T160000
DTSTAMP:20260424T201433
CREATED:20230412T151737Z
LAST-MODIFIED:20230414T062341Z
UID:7742-1681392600-1681401600@www.naturschutz-taubergrund.de
SUMMARY:Do. 13.04.2023 Trüffelbäume Pflazaktion
DESCRIPTION:Hallo liebe Naturfreunde ich möchte alle die können und wollen am Donnerstag 13.04 .23 zu unserer Trüffelbaum Pflanzaktion einladen Treff ist ln MGH Norma Parkplatz um 13.30. Dann auf in den Ketterberg. Garten Pflanzgeräte sind willkommen. \nHaben fertig…..
URL:http://www.naturschutz-taubergrund.de/event/do-13-04-2023-trueffelbaeume-pflazaktion/
END:VEVENT
END:VCALENDAR