BEGIN:VCALENDAR
VERSION:2.0
PRODID:-// - ECPv6.15.20//NONSGML v1.0//EN
CALSCALE:GREGORIAN
METHOD:PUBLISH
X-ORIGINAL-URL:http://www.naturschutz-taubergrund.de
X-WR-CALDESC:Veranstaltungen für 
REFRESH-INTERVAL;VALUE=DURATION:PT1H
X-Robots-Tag:noindex
X-PUBLISHED-TTL:PT1H
BEGIN:VTIMEZONE
TZID:Europe/Berlin
BEGIN:DAYLIGHT
TZOFFSETFROM:+0100
TZOFFSETTO:+0200
TZNAME:CEST
DTSTART:20220327T010000
END:DAYLIGHT
BEGIN:STANDARD
TZOFFSETFROM:+0200
TZOFFSETTO:+0100
TZNAME:CET
DTSTART:20221030T010000
END:STANDARD
BEGIN:DAYLIGHT
TZOFFSETFROM:+0100
TZOFFSETTO:+0200
TZNAME:CEST
DTSTART:20230326T010000
END:DAYLIGHT
BEGIN:STANDARD
TZOFFSETFROM:+0200
TZOFFSETTO:+0100
TZNAME:CET
DTSTART:20231029T010000
END:STANDARD
BEGIN:DAYLIGHT
TZOFFSETFROM:+0100
TZOFFSETTO:+0200
TZNAME:CEST
DTSTART:20240331T010000
END:DAYLIGHT
BEGIN:STANDARD
TZOFFSETFROM:+0200
TZOFFSETTO:+0100
TZNAME:CET
DTSTART:20241027T010000
END:STANDARD
END:VTIMEZONE
BEGIN:VEVENT
DTSTART;TZID=Europe/Berlin:20230415T140000
DTEND;TZID=Europe/Berlin:20230415T160000
DTSTAMP:20260424T231224
CREATED:20230411T191946Z
LAST-MODIFIED:20230414T061134Z
UID:7740-1681567200-1681574400@www.naturschutz-taubergrund.de
SUMMARY:Sa. 15.04.2023 Umweltzentrum geöffnet von 14:00 - 16:00 Uhr
DESCRIPTION:„Das Umweltzentrum der Naturschutzgruppe Taubergrund am Bahnübergang zum Schlosspark ist am Samstag\, 15.04.2023\, von 14:00 bis 16:00 geöffnet. Die Besucher können sich informieren über die verschiedenen Arbeitskreise und Aktivitäten der Gruppe. Monika Schmid ist für Sie da sie bearbeitet Schwerpunktmäßig die Interessengebiete Pilzkunde und Amphibien/Reptilien.
URL:http://www.naturschutz-taubergrund.de/event/sa-15-04-2023-umweltzentrum-geoeffnet-von-1400-1600-uhr/
LOCATION:Umweltzentrum in MGH am kleinen Bahnübergang zum Kurpark\, Bad Mergentheim\, Herrenmühlstraße 24\, 97980
END:VEVENT
END:VCALENDAR