BEGIN:VCALENDAR
VERSION:2.0
PRODID:-// - ECPv6.15.20//NONSGML v1.0//EN
CALSCALE:GREGORIAN
METHOD:PUBLISH
X-ORIGINAL-URL:http://www.naturschutz-taubergrund.de
X-WR-CALDESC:Veranstaltungen für 
REFRESH-INTERVAL;VALUE=DURATION:PT1H
X-Robots-Tag:noindex
X-PUBLISHED-TTL:PT1H
BEGIN:VTIMEZONE
TZID:Europe/Berlin
BEGIN:DAYLIGHT
TZOFFSETFROM:+0100
TZOFFSETTO:+0200
TZNAME:CEST
DTSTART:20220327T010000
END:DAYLIGHT
BEGIN:STANDARD
TZOFFSETFROM:+0200
TZOFFSETTO:+0100
TZNAME:CET
DTSTART:20221030T010000
END:STANDARD
BEGIN:DAYLIGHT
TZOFFSETFROM:+0100
TZOFFSETTO:+0200
TZNAME:CEST
DTSTART:20230326T010000
END:DAYLIGHT
BEGIN:STANDARD
TZOFFSETFROM:+0200
TZOFFSETTO:+0100
TZNAME:CET
DTSTART:20231029T010000
END:STANDARD
BEGIN:DAYLIGHT
TZOFFSETFROM:+0100
TZOFFSETTO:+0200
TZNAME:CEST
DTSTART:20240331T010000
END:DAYLIGHT
BEGIN:STANDARD
TZOFFSETFROM:+0200
TZOFFSETTO:+0100
TZNAME:CET
DTSTART:20241027T010000
END:STANDARD
END:VTIMEZONE
BEGIN:VEVENT
DTSTART;TZID=Europe/Berlin:20230513T100000
DTEND;TZID=Europe/Berlin:20230513T123000
DTSTAMP:20260424T130243
CREATED:20230509T195503Z
LAST-MODIFIED:20230510T092508Z
UID:7863-1683972000-1683981000@www.naturschutz-taubergrund.de
SUMMARY:Sa. 13.05.2023 Kräuterelixiere aus der Natur selbst herstellen
DESCRIPTION:Mai Samstag\, 13.05.2023 10:00-12:30 Uhr Kräuter aus der Natur Kräuterelixiere selbst herstellen Umweltzentrum Herrenmühlstr. 24\, MGH \nEinladung der Tauberhüpfer zum 5. Aktionstag in 2023 \nKräuter aus der Natur: Kräuterelixiere selbst herstellen \nSamstag\, den 13.05.2023 von 10:00 Uhr – 12:30 Uhr \nTreffpunkt: Umweltzentrum in der Herrenmühlstraße 24 \n  \nLiebe Tauberhüpfer\, \nam Samstag\, 13. Mai treffen wir uns wieder zum 5. Aktionstag. Auf dem Programm steht eine Exkursion im Kurpark Bad Mergentheim zum Thema „Kräuter aus der Natur“. Wir erkunden die Natur um uns herum und lernen die verschiedenen heimlichen Frühlingskräuter kennen. Wir sehen nicht mehr nur eine grüne Wiese\, sondern können bereits einzelne Pflanzen an Aussehen und Geschmack unterscheiden. Nachdem wir die Wildkräuter gesammelt und auch schon das eine oder andere probiert haben\, verarbeiten wir diese zu unserem eigenen Kräuterelixier.  \nEine Entdeckungsreise\, die jede Menge Spaß macht!  \nZudem empfehlen wir euch\, Kleidung anzuziehen\, die auch dreckig werden darf\, da wir uns im Freien bewegen werden. \nDas Leitungsteam\, Sabine und Sabrina\, freuen sich auf eure Teilnahme. \nBitte entschuldigt die verspätete Einladung\, aber die Mail hing wohl seit Montag in meinen Entwürfen fest. 🙁\nWir bitten daher um Anmeldung bis Freitag\, 12.05.2023. \n\nAnmeldung über Mail:  s.neeser@naturschutz-taubergrund.de oder Telefon 0170-3072452. \n(PS: Bei diesen Veranstaltungen werden Fotos gemacht. diese können auch für interne Publikationen und Dokumentationen veröffentlicht werden!)  \n 
URL:http://www.naturschutz-taubergrund.de/event/kraeuterelixiere-aus-der-natur-selbst-herstellen/
LOCATION:Umweltzentrum in MGH am kleinen Bahnübergang zum Kurpark\, Bad Mergentheim\, Herrenmühlstraße 24\, 97980
END:VEVENT
BEGIN:VEVENT
DTSTART;TZID=Europe/Berlin:20230513T140000
DTEND;TZID=Europe/Berlin:20230513T160000
DTSTAMP:20260424T130243
CREATED:20230512T111823Z
LAST-MODIFIED:20230512T111823Z
UID:7873-1683986400-1683993600@www.naturschutz-taubergrund.de
SUMMARY:Sa. 13.05.2023 14:00 - 16:00 Uhr UWZ geöffnet Holger Schmitt ist für Sie da....
DESCRIPTION:„Am Samstag\, 13.05.2023\, kommt der Fotograf Holger Schmitt von 14:00 bis 16:00 ins Umweltzentrum der Naturschutzgruppe Taubergrund am Bahnübergang zum Schlosspark. Er kann anschaulich über die Möglichkeiten der Fotografie in der Landschaft und den Lebewesen darin berichten und Tipps geben. Zudem informiert er gerne über die verschiedenen Arbeitskreise und Aktivitäten der Gruppe.“
URL:http://www.naturschutz-taubergrund.de/event/sa-13-05-2023-1400-1600-uhr-uwz-geoeffnet-holger-schmitt-ist-fuer-sie-da/
LOCATION:Umweltzentrum in MGH am kleinen Bahnübergang zum Kurpark\, Bad Mergentheim\, Herrenmühlstraße 24\, 97980
END:VEVENT
END:VCALENDAR