BEGIN:VCALENDAR
VERSION:2.0
PRODID:-// - ECPv6.15.20//NONSGML v1.0//EN
CALSCALE:GREGORIAN
METHOD:PUBLISH
X-ORIGINAL-URL:http://www.naturschutz-taubergrund.de
X-WR-CALDESC:Veranstaltungen für 
REFRESH-INTERVAL;VALUE=DURATION:PT1H
X-Robots-Tag:noindex
X-PUBLISHED-TTL:PT1H
BEGIN:VTIMEZONE
TZID:Europe/Berlin
BEGIN:DAYLIGHT
TZOFFSETFROM:+0100
TZOFFSETTO:+0200
TZNAME:CEST
DTSTART:20220327T010000
END:DAYLIGHT
BEGIN:STANDARD
TZOFFSETFROM:+0200
TZOFFSETTO:+0100
TZNAME:CET
DTSTART:20221030T010000
END:STANDARD
BEGIN:DAYLIGHT
TZOFFSETFROM:+0100
TZOFFSETTO:+0200
TZNAME:CEST
DTSTART:20230326T010000
END:DAYLIGHT
BEGIN:STANDARD
TZOFFSETFROM:+0200
TZOFFSETTO:+0100
TZNAME:CET
DTSTART:20231029T010000
END:STANDARD
BEGIN:DAYLIGHT
TZOFFSETFROM:+0100
TZOFFSETTO:+0200
TZNAME:CEST
DTSTART:20240331T010000
END:DAYLIGHT
BEGIN:STANDARD
TZOFFSETFROM:+0200
TZOFFSETTO:+0100
TZNAME:CET
DTSTART:20241027T010000
END:STANDARD
END:VTIMEZONE
BEGIN:VEVENT
DTSTART;TZID=Europe/Berlin:20230814T140000
DTEND;TZID=Europe/Berlin:20230814T170000
DTSTAMP:20260421T201606
CREATED:20230807T121001Z
LAST-MODIFIED:20230807T121001Z
UID:7996-1692021600-1692032400@www.naturschutz-taubergrund.de
SUMMARY:Mo. 14.08.2023 14:00 Uhr Seniorengruppe "Grauen Füchse" in Markelsheim Fahrt mit dem Gelben Wagen
DESCRIPTION:Die Grauen Füchse von der Naturschutzgruppe fahren am Montag den 14.08.2023 Abfahrt 14:00 Uhr an der\nWinzergenossenschaft Markelsheim mit den Gelben Wagen durch die Weinberge bei Weinprobe und Vesper.\nTreffpunkt ist um 14:00 an der Winzergenossenschaft Markelsheim. \nNäheres bei Tel. Nr. 07931/3570
URL:http://www.naturschutz-taubergrund.de/event/mo-14-08-2023-1400-uhr-seniorengruppe-grauen-fuechse-in-markelsheim-fahrt-mit-dem-gelben-wagen/
LOCATION:Markelsheim
END:VEVENT
END:VCALENDAR