BEGIN:VCALENDAR
VERSION:2.0
PRODID:-// - ECPv6.15.20//NONSGML v1.0//EN
CALSCALE:GREGORIAN
METHOD:PUBLISH
X-ORIGINAL-URL:http://www.naturschutz-taubergrund.de
X-WR-CALDESC:Veranstaltungen für 
REFRESH-INTERVAL;VALUE=DURATION:PT1H
X-Robots-Tag:noindex
X-PUBLISHED-TTL:PT1H
BEGIN:VTIMEZONE
TZID:Europe/Berlin
BEGIN:DAYLIGHT
TZOFFSETFROM:+0100
TZOFFSETTO:+0200
TZNAME:CEST
DTSTART:20220327T010000
END:DAYLIGHT
BEGIN:STANDARD
TZOFFSETFROM:+0200
TZOFFSETTO:+0100
TZNAME:CET
DTSTART:20221030T010000
END:STANDARD
BEGIN:DAYLIGHT
TZOFFSETFROM:+0100
TZOFFSETTO:+0200
TZNAME:CEST
DTSTART:20230326T010000
END:DAYLIGHT
BEGIN:STANDARD
TZOFFSETFROM:+0200
TZOFFSETTO:+0100
TZNAME:CET
DTSTART:20231029T010000
END:STANDARD
BEGIN:DAYLIGHT
TZOFFSETFROM:+0100
TZOFFSETTO:+0200
TZNAME:CEST
DTSTART:20240331T010000
END:DAYLIGHT
BEGIN:STANDARD
TZOFFSETFROM:+0200
TZOFFSETTO:+0100
TZNAME:CET
DTSTART:20241027T010000
END:STANDARD
END:VTIMEZONE
BEGIN:VEVENT
DTSTART;TZID=Europe/Berlin:20230909T100000
DTEND;TZID=Europe/Berlin:20230909T123000
DTSTAMP:20260421T184408
CREATED:20230906T100532Z
LAST-MODIFIED:20230906T100605Z
UID:8017-1694253600-1694262600@www.naturschutz-taubergrund.de
SUMMARY:Kindergruppe (Tauberüpfer) aktiv
DESCRIPTION:Einladung der Tauberhüpfer zum 9. Aktionstag in 2023\nDer Herbst ist die Zeit der Obsternte – Wir helfen mit!Samstag\, den 09.09.2023 von 10:00 Uhr – 12:30 Uhr\nTreffpunkt: Auwäldchen zwischen Edelfingen u. Unterbalbach (entlang des Fahrradweges) \n\nLiebe Tauberhüpfer\, \nam Samstag\, 09. September treffen wir uns wieder zum 9. Aktionstag. Diesmal verspricht es ein ganz besonderes Abenteuer\, denn der Herbst steht vor der Tür\, und es ist Zeit für die Obsternte! \n\nTreffpunkt für unser aufregendes Abenteuer ist das Auwäldchen zwischen Edelfingen und Unterbalbach. Einfach entlang des Fahrradweges von Edelfingen nach Unterbalbach fahren und dann kann man das Auwäldchen gar nicht verfehlen.\n \nDer Sommer hat seinen Höhepunkt erreicht\, und die ersten Früchte sind reif. Apfel\, Birne und Co. warten darauf\, von uns geerntet zu werden. Lasst uns gemeinsam in die Welt der Obsternte eintauchen und die Freude am Gärtnern und Ernten teilen. Aber bevor es losgeht\, denkt bitte daran\, Handschuhe mitzunehmen\, um eure Hände zu schützen. Wir freuen uns auf einen lehrreichen und spaßigen Tag!\n \n\nBitte denkt daran\, wetterfeste Kleidung sowie Schuhwerk zu tragen\, die auch für den Aufenthalt auf der Obstwiese geeignet ist.  \nDes Weiteren möchte ich nochmal auf den Termin am Mittwoch\, den 06.09.23 aufmerksam machen „Entdecke den Wald mit dem Ökomobil“. \n\n\nEs sind noch Plätze frei! Meldet euch gerne! \nDas Leitungsteam\, Sabine und Sabrina\, freuen sich auf eure Teilnahme. \nWir bitten um Anmeldung bis Donnerstag\, 07.09.2023.\nAnmeldung über Mail: s.sandmaier@naturschutz-taubergrund.de oder s.neeser@naturschutz-taubergrund.de oder Telefon 0170-3072452. \n(PS: Bei diesen Veranstaltungen werden Fotos gemacht. Diese können auch für interne Publikationen und Dokumentationen veröffentlicht werden!)
URL:http://www.naturschutz-taubergrund.de/event/kindergruppe-tauberuepfer-aktiv/
LOCATION:MGH-Edelfingen Auwäldchen Streuobstwiese
END:VEVENT
END:VCALENDAR