BEGIN:VCALENDAR
VERSION:2.0
PRODID:-// - ECPv6.15.20//NONSGML v1.0//EN
CALSCALE:GREGORIAN
METHOD:PUBLISH
X-ORIGINAL-URL:http://www.naturschutz-taubergrund.de
X-WR-CALDESC:Veranstaltungen für 
REFRESH-INTERVAL;VALUE=DURATION:PT1H
X-Robots-Tag:noindex
X-PUBLISHED-TTL:PT1H
BEGIN:VTIMEZONE
TZID:Europe/Berlin
BEGIN:DAYLIGHT
TZOFFSETFROM:+0100
TZOFFSETTO:+0200
TZNAME:CEST
DTSTART:20220327T010000
END:DAYLIGHT
BEGIN:STANDARD
TZOFFSETFROM:+0200
TZOFFSETTO:+0100
TZNAME:CET
DTSTART:20221030T010000
END:STANDARD
BEGIN:DAYLIGHT
TZOFFSETFROM:+0100
TZOFFSETTO:+0200
TZNAME:CEST
DTSTART:20230326T010000
END:DAYLIGHT
BEGIN:STANDARD
TZOFFSETFROM:+0200
TZOFFSETTO:+0100
TZNAME:CET
DTSTART:20231029T010000
END:STANDARD
BEGIN:DAYLIGHT
TZOFFSETFROM:+0100
TZOFFSETTO:+0200
TZNAME:CEST
DTSTART:20240331T010000
END:DAYLIGHT
BEGIN:STANDARD
TZOFFSETFROM:+0200
TZOFFSETTO:+0100
TZNAME:CET
DTSTART:20241027T010000
END:STANDARD
END:VTIMEZONE
BEGIN:VEVENT
DTSTART;TZID=Europe/Berlin:20230914T120000
DTEND;TZID=Europe/Berlin:20230914T140000
DTSTAMP:20260421T183436
CREATED:20230906T083324Z
LAST-MODIFIED:20230906T083350Z
UID:8013-1694692800-1694700000@www.naturschutz-taubergrund.de
SUMMARY:Monatstreff der Grauen Füchse
DESCRIPTION:Die Grauen Füchse\nDer Monatstreff der Grauen Füchse der Naturschutzgruppe findet am Donnerstag den 14.09.2023 um 12:00 Uhr im Golfrestaurant Bundschuh Erlenbachtalstr. 36 zum Mittagessen statt. Anmeldeschluß ist am Montag den 11.09. 2023 bei Tel. Nr. 07931/3570 Helga Meinikheim und Tel. 07931/9612538 H. Koch / B. Goelz.
URL:http://www.naturschutz-taubergrund.de/event/monatstreff-der-grauen-fuechse/
LOCATION:Golfrestaurant Bundschuh Erlenbachstr. 36
END:VEVENT
END:VCALENDAR