BEGIN:VCALENDAR
VERSION:2.0
PRODID:-// - ECPv6.15.20//NONSGML v1.0//EN
CALSCALE:GREGORIAN
METHOD:PUBLISH
X-ORIGINAL-URL:http://www.naturschutz-taubergrund.de
X-WR-CALDESC:Veranstaltungen für 
REFRESH-INTERVAL;VALUE=DURATION:PT1H
X-Robots-Tag:noindex
X-PUBLISHED-TTL:PT1H
BEGIN:VTIMEZONE
TZID:Europe/Berlin
BEGIN:DAYLIGHT
TZOFFSETFROM:+0100
TZOFFSETTO:+0200
TZNAME:CEST
DTSTART:20220327T010000
END:DAYLIGHT
BEGIN:STANDARD
TZOFFSETFROM:+0200
TZOFFSETTO:+0100
TZNAME:CET
DTSTART:20221030T010000
END:STANDARD
BEGIN:DAYLIGHT
TZOFFSETFROM:+0100
TZOFFSETTO:+0200
TZNAME:CEST
DTSTART:20230326T010000
END:DAYLIGHT
BEGIN:STANDARD
TZOFFSETFROM:+0200
TZOFFSETTO:+0100
TZNAME:CET
DTSTART:20231029T010000
END:STANDARD
BEGIN:DAYLIGHT
TZOFFSETFROM:+0100
TZOFFSETTO:+0200
TZNAME:CEST
DTSTART:20240331T010000
END:DAYLIGHT
BEGIN:STANDARD
TZOFFSETFROM:+0200
TZOFFSETTO:+0100
TZNAME:CET
DTSTART:20241027T010000
END:STANDARD
END:VTIMEZONE
BEGIN:VEVENT
DTSTART;TZID=Europe/Berlin:20231028T140000
DTEND;TZID=Europe/Berlin:20231028T160000
DTSTAMP:20260421T171633
CREATED:20231024T203829Z
LAST-MODIFIED:20231024T203829Z
UID:8186-1698501600-1698508800@www.naturschutz-taubergrund.de
SUMMARY:Sa. 28.10.2023 14:00-16:00 UWZ geöffnet
DESCRIPTION:Es ergeht die herzliche Einladung\, das Umweltzentrum der Naturschutzgruppe Taubergrund am Bahnübergang zum Schlosspark kennenzulernen\, herumzustöbern und in Kontakt zu treten. Am Samstag\, 28.10.2023 ist es von 14:00 bis 16:00 Uhr geöffnet.
URL:http://www.naturschutz-taubergrund.de/event/sa-28-10-2023-1400-1600-uwz-geoeffnet/
LOCATION:Umweltzentrum in MGH am kleinen Bahnübergang zum Kurpark\, Bad Mergentheim\, Herrenmühlstraße 24\, 97980
END:VEVENT
END:VCALENDAR