BEGIN:VCALENDAR
VERSION:2.0
PRODID:-// - ECPv6.15.20//NONSGML v1.0//EN
CALSCALE:GREGORIAN
METHOD:PUBLISH
X-ORIGINAL-URL:http://www.naturschutz-taubergrund.de
X-WR-CALDESC:Veranstaltungen für 
REFRESH-INTERVAL;VALUE=DURATION:PT1H
X-Robots-Tag:noindex
X-PUBLISHED-TTL:PT1H
BEGIN:VTIMEZONE
TZID:Europe/Berlin
BEGIN:DAYLIGHT
TZOFFSETFROM:+0100
TZOFFSETTO:+0200
TZNAME:CEST
DTSTART:20220327T010000
END:DAYLIGHT
BEGIN:STANDARD
TZOFFSETFROM:+0200
TZOFFSETTO:+0100
TZNAME:CET
DTSTART:20221030T010000
END:STANDARD
BEGIN:DAYLIGHT
TZOFFSETFROM:+0100
TZOFFSETTO:+0200
TZNAME:CEST
DTSTART:20230326T010000
END:DAYLIGHT
BEGIN:STANDARD
TZOFFSETFROM:+0200
TZOFFSETTO:+0100
TZNAME:CET
DTSTART:20231029T010000
END:STANDARD
BEGIN:DAYLIGHT
TZOFFSETFROM:+0100
TZOFFSETTO:+0200
TZNAME:CEST
DTSTART:20240331T010000
END:DAYLIGHT
BEGIN:STANDARD
TZOFFSETFROM:+0200
TZOFFSETTO:+0100
TZNAME:CET
DTSTART:20241027T010000
END:STANDARD
END:VTIMEZONE
BEGIN:VEVENT
DTSTART;TZID=Europe/Berlin:20231104T140000
DTEND;TZID=Europe/Berlin:20231104T160000
DTSTAMP:20260421T154132
CREATED:20231101T154936Z
LAST-MODIFIED:20231101T154936Z
UID:8262-1699106400-1699113600@www.naturschutz-taubergrund.de
SUMMARY:Im November ist jeden Sa. das UWZ geöffnet
DESCRIPTION:Im Umweltzentrum der Naturschutzgruppe Taubergrund erhalten Natur- und Vogelfreunde Tipps rund um das Thema “ Winterfütterung unserer heimischen Vogelarten“. Begleitend\ndazu gibt es Informationen\, wie wir unsere Gärten auf natürliche Art und Weise gestalten\, um damit unserer Vogelwelt einen reich gedeckten Tisch anbieten zu können. \nDas Umweltzentrum im äußeren Schlosspark in Bad Mergentheim ist im November samstags von 14 bis 16 Uhr geöffnet
URL:http://www.naturschutz-taubergrund.de/event/im-november-ist-jeden-sa-das-uwz-geoeffnet/
LOCATION:Umweltzentrum in MGH am kleinen Bahnübergang zum Kurpark\, Bad Mergentheim\, Herrenmühlstraße 24\, 97980
END:VEVENT
END:VCALENDAR