BEGIN:VCALENDAR
VERSION:2.0
PRODID:-// - ECPv6.15.20//NONSGML v1.0//EN
CALSCALE:GREGORIAN
METHOD:PUBLISH
X-ORIGINAL-URL:http://www.naturschutz-taubergrund.de
X-WR-CALDESC:Veranstaltungen für 
REFRESH-INTERVAL;VALUE=DURATION:PT1H
X-Robots-Tag:noindex
X-PUBLISHED-TTL:PT1H
BEGIN:VTIMEZONE
TZID:Europe/Berlin
BEGIN:DAYLIGHT
TZOFFSETFROM:+0100
TZOFFSETTO:+0200
TZNAME:CEST
DTSTART:20220327T010000
END:DAYLIGHT
BEGIN:STANDARD
TZOFFSETFROM:+0200
TZOFFSETTO:+0100
TZNAME:CET
DTSTART:20221030T010000
END:STANDARD
BEGIN:DAYLIGHT
TZOFFSETFROM:+0100
TZOFFSETTO:+0200
TZNAME:CEST
DTSTART:20230326T010000
END:DAYLIGHT
BEGIN:STANDARD
TZOFFSETFROM:+0200
TZOFFSETTO:+0100
TZNAME:CET
DTSTART:20231029T010000
END:STANDARD
BEGIN:DAYLIGHT
TZOFFSETFROM:+0100
TZOFFSETTO:+0200
TZNAME:CEST
DTSTART:20240331T010000
END:DAYLIGHT
BEGIN:STANDARD
TZOFFSETFROM:+0200
TZOFFSETTO:+0100
TZNAME:CET
DTSTART:20241027T010000
END:STANDARD
END:VTIMEZONE
BEGIN:VEVENT
DTSTART;TZID=Europe/Berlin:20231111T100000
DTEND;TZID=Europe/Berlin:20231111T123000
DTSTAMP:20260421T154436
CREATED:20231105T095052Z
LAST-MODIFIED:20231105T095354Z
UID:8270-1699696800-1699705800@www.naturschutz-taubergrund.de
SUMMARY:Sa. 11.11.2023 10:00 - 12:30 Kinderleichte Schlemmerküche
DESCRIPTION:Einladung der Tauberhüpfer zum 11. Aktionstag in 2023\n\nKochworkshop – Kinderleichte Schlemmerküche \nSamstag\, den 11.11.2023 von 10:00 Uhr – 12:30 Uhr\nTreffpunkt: Landwirtschaftsschule\, Wachbacherstraße 52\, 97980 Bad Mergentheim  \nLiebe Tauberhüpfer\, \nam Samstag\, 11. November treffen wir uns wieder zum 11. Aktionstag. Dieses Mal treffen wir uns zu einem Kochworkshop unter dem Motto „Kinderleichte Schlemmerküche“. \n\nTreffpunkt ist die Landwirtschaftsschule in Bad Mergentheim (Adresse: Wachbacherstraße 52\, 97980 Bad Mergentheim). \n \nGemeinsam mit einer Dame der Landwirtschaftsschule werden wir die Vielfalt saisonaler Obst- und Gemüsesorten erkunden und daraus köstliche Gerichte zubereiten. Zudem werden wir uns gemeinsam mit der fachgerechten Verarbeitung und Zubereitung dieser Lebensmittel beschäftigen.\n \nWir freuen uns\, euch auf ein kulinarisches Abenteuer einzuladen und sind gespannt darauf\, gemeinsam leckere Mahlzeiten zu zaubern!\n \nFalls ihr Lebensmittelunverträglichkeiten oder Allergien habt\, teilt uns das bitte mit\, und bringt außerdem eine Schürze zum Kochen mit. \n\nDas Leitungsteam\, Sabine und Sabrina\, freuen sich auf eure Teilnahme.Wir bitten um Anmeldung bis Donnerstag\, 09.11.2023. Anmeldung über Mail: s.sandmaier@naturschutz-taubergrund.de oder s.neeser@naturschutz-taubergrund.de oder Telefon 0170-3072452.  \n\n \nLeider gibt es bei diesem Termin eine Teilnehmergrenze! \n \n(PS: Bei diesen Veranstaltungen werden Fotos gemacht. Diese können auch für interne Publikationen und Dokumentationen veröffentlicht werden!)
URL:http://www.naturschutz-taubergrund.de/event/8270/
LOCATION:Landwirtschaftsschule MGH\, Wachbacherstraße 52
END:VEVENT
BEGIN:VEVENT
DTSTART;TZID=Europe/Berlin:20231111T140000
DTEND;TZID=Europe/Berlin:20231111T160000
DTSTAMP:20260421T154436
CREATED:20231106T091020Z
LAST-MODIFIED:20231106T091020Z
UID:8277-1699711200-1699718400@www.naturschutz-taubergrund.de
SUMMARY:Sa. 11.11.2023 14:00 - 16:00 UWZ geöffnet
DESCRIPTION:Das Umweltzentrum der Naturschutzgruppe Taubergrund am Bahnübergang zum Schlosspark ist am Samstag\, 11.11.2023\, von 14:00 bis 16:00 geöffnet. Es gibt Materialien und Tipps zum Thema „Winterfütterung“ oder Informationen zu den „Wanderungen durch die Jahreszeiten“.
URL:http://www.naturschutz-taubergrund.de/event/sa-11-11-2023-1400-1600-uwz-geoeffnet/
LOCATION:Umweltzentrum in MGH am kleinen Bahnübergang zum Kurpark\, Bad Mergentheim\, Herrenmühlstraße 24\, 97980
END:VEVENT
END:VCALENDAR