BEGIN:VCALENDAR
VERSION:2.0
PRODID:-// - ECPv6.15.20//NONSGML v1.0//EN
CALSCALE:GREGORIAN
METHOD:PUBLISH
X-ORIGINAL-URL:http://www.naturschutz-taubergrund.de
X-WR-CALDESC:Veranstaltungen für 
REFRESH-INTERVAL;VALUE=DURATION:PT1H
X-Robots-Tag:noindex
X-PUBLISHED-TTL:PT1H
BEGIN:VTIMEZONE
TZID:Europe/Berlin
BEGIN:DAYLIGHT
TZOFFSETFROM:+0100
TZOFFSETTO:+0200
TZNAME:CEST
DTSTART:20220327T010000
END:DAYLIGHT
BEGIN:STANDARD
TZOFFSETFROM:+0200
TZOFFSETTO:+0100
TZNAME:CET
DTSTART:20221030T010000
END:STANDARD
BEGIN:DAYLIGHT
TZOFFSETFROM:+0100
TZOFFSETTO:+0200
TZNAME:CEST
DTSTART:20230326T010000
END:DAYLIGHT
BEGIN:STANDARD
TZOFFSETFROM:+0200
TZOFFSETTO:+0100
TZNAME:CET
DTSTART:20231029T010000
END:STANDARD
BEGIN:DAYLIGHT
TZOFFSETFROM:+0100
TZOFFSETTO:+0200
TZNAME:CEST
DTSTART:20240331T010000
END:DAYLIGHT
BEGIN:STANDARD
TZOFFSETFROM:+0200
TZOFFSETTO:+0100
TZNAME:CET
DTSTART:20241027T010000
END:STANDARD
END:VTIMEZONE
BEGIN:VEVENT
DTSTART;TZID=Europe/Berlin:20231116T113000
DTEND;TZID=Europe/Berlin:20231116T133000
DTSTAMP:20260421T154349
CREATED:20231107T091118Z
LAST-MODIFIED:20231107T091311Z
UID:8310-1700134200-1700141400@www.naturschutz-taubergrund.de
SUMMARY:Do. 16.11.2023 11:30 Monatstreff Graue Füchse
DESCRIPTION:Die Grauen Füchse\nDer Monatstreff im November findet am Donnerstag den 16.11.2023 um 11:30 Uhr im Hotel Restaurant Kippes Erlenbachweg 14 statt. Eine Anmeldung ist bis Montag den 13.11.2023 unter Tel. 07931/3570 bei Helga Meinikheim notwendig.
URL:http://www.naturschutz-taubergrund.de/event/do-16-11-2023-1130-monatstreff-graue-fuechse/
LOCATION:Erlenbachweg 14
END:VEVENT
END:VCALENDAR