BEGIN:VCALENDAR
VERSION:2.0
PRODID:-// - ECPv6.15.20//NONSGML v1.0//EN
CALSCALE:GREGORIAN
METHOD:PUBLISH
X-ORIGINAL-URL:http://www.naturschutz-taubergrund.de
X-WR-CALDESC:Veranstaltungen für 
REFRESH-INTERVAL;VALUE=DURATION:PT1H
X-Robots-Tag:noindex
X-PUBLISHED-TTL:PT1H
BEGIN:VTIMEZONE
TZID:Europe/Berlin
BEGIN:DAYLIGHT
TZOFFSETFROM:+0100
TZOFFSETTO:+0200
TZNAME:CEST
DTSTART:20190331T010000
END:DAYLIGHT
BEGIN:STANDARD
TZOFFSETFROM:+0200
TZOFFSETTO:+0100
TZNAME:CET
DTSTART:20191027T010000
END:STANDARD
BEGIN:DAYLIGHT
TZOFFSETFROM:+0100
TZOFFSETTO:+0200
TZNAME:CEST
DTSTART:20200329T010000
END:DAYLIGHT
BEGIN:STANDARD
TZOFFSETFROM:+0200
TZOFFSETTO:+0100
TZNAME:CET
DTSTART:20201025T010000
END:STANDARD
BEGIN:DAYLIGHT
TZOFFSETFROM:+0100
TZOFFSETTO:+0200
TZNAME:CEST
DTSTART:20210328T010000
END:DAYLIGHT
BEGIN:STANDARD
TZOFFSETFROM:+0200
TZOFFSETTO:+0100
TZNAME:CET
DTSTART:20211031T010000
END:STANDARD
END:VTIMEZONE
BEGIN:VEVENT
DTSTART;TZID=Europe/Berlin:20200113T190000
DTEND;TZID=Europe/Berlin:20200113T210000
DTSTAMP:20260425T154816
CREATED:20191228T193551Z
LAST-MODIFIED:20191229T175918Z
UID:4745-1578942000-1578949200@www.naturschutz-taubergrund.de
SUMMARY:Arbeitskreis Energie und Umwelt AK-Sitzung\, Mo.
DESCRIPTION:
URL:http://www.naturschutz-taubergrund.de/event/arbeitskreis-engergie-und-umwelt-ak-sitzung/
LOCATION:Umweltzenturm Nauturschutzgruppe Taubergrund\, Herrenmühlstr. 24\, Bad Mergentheim\, Baden Württemberg\, 97980\, Deutschland
ORGANIZER;CN="AK Energie und Umwelt":MAILTO:info@naturchutz-taubergrund.de
END:VEVENT
BEGIN:VEVENT
DTSTART;TZID=Europe/Berlin:20200121T193000
DTEND;TZID=Europe/Berlin:20200121T210000
DTSTAMP:20260425T154816
CREATED:20200110T085939Z
LAST-MODIFIED:20200110T092004Z
UID:4787-1579635000-1579640400@www.naturschutz-taubergrund.de
SUMMARY:Di. Vortrag -DiskussionKUNSTSTOFFE: FLUCH UND SEGEN?
DESCRIPTION:Vortrag – Diskussion\nKUNSTSTOFFE:\nFLUCH UND SEGEN?\nKunststoffe erfüllen in vielen Branchen eine wichtige Aufgabe zur Ressourcenschonung und Klimaverbesserung. Dem gegenüber stehen die erschreckenden Bilder der Umweltverschmutzung mit Kunststoffverpackungen.\nDer Abend will dazu beitragen\, die oft sehr emotional geführte Plastik-Diskussion anhand von Fakten besser verstehen und bewerten zu können.\nDi 21.01.2020 / 19.30 Uhr / Katholisches Gemeindehaus Bad Mergentheim.\n\nReferent: Prof. Ansgar Jaeger\nNaturschutzgruppe Taubergrund in Kooperation mit dem Katholische Erwachsenenbildung\nDekanat Mergentheim e. V.\nEintritt frei! (Spenden erwünscht)
URL:http://www.naturschutz-taubergrund.de/event/di-vortrag-diskussionkunststoffe-fluch-und-segen/
LOCATION:Katholisches Gemeindehaus\, Bad Mergentheim\, Marienstr. 1\, Bad Mergentheim\, Baden Württemberg\, 97980\, Deutschland
END:VEVENT
BEGIN:VEVENT
DTSTART;VALUE=DATE:20200125
DTEND;VALUE=DATE:20200126
DTSTAMP:20260425T154816
CREATED:20191226T191719Z
LAST-MODIFIED:20191226T191719Z
UID:4722-1579910400-1579996799@www.naturschutz-taubergrund.de
SUMMARY:Klausurtagung Sa.
DESCRIPTION:
URL:http://www.naturschutz-taubergrund.de/event/klausurtagung-sa/
END:VEVENT
END:VCALENDAR