BEGIN:VCALENDAR
VERSION:2.0
PRODID:-// - ECPv6.15.20//NONSGML v1.0//EN
CALSCALE:GREGORIAN
METHOD:PUBLISH
X-ORIGINAL-URL:http://www.naturschutz-taubergrund.de
X-WR-CALDESC:Veranstaltungen für 
REFRESH-INTERVAL;VALUE=DURATION:PT1H
X-Robots-Tag:noindex
X-PUBLISHED-TTL:PT1H
BEGIN:VTIMEZONE
TZID:Europe/Berlin
BEGIN:DAYLIGHT
TZOFFSETFROM:+0100
TZOFFSETTO:+0200
TZNAME:CEST
DTSTART:20220327T010000
END:DAYLIGHT
BEGIN:STANDARD
TZOFFSETFROM:+0200
TZOFFSETTO:+0100
TZNAME:CET
DTSTART:20221030T010000
END:STANDARD
BEGIN:DAYLIGHT
TZOFFSETFROM:+0100
TZOFFSETTO:+0200
TZNAME:CEST
DTSTART:20230326T010000
END:DAYLIGHT
BEGIN:STANDARD
TZOFFSETFROM:+0200
TZOFFSETTO:+0100
TZNAME:CET
DTSTART:20231029T010000
END:STANDARD
BEGIN:DAYLIGHT
TZOFFSETFROM:+0100
TZOFFSETTO:+0200
TZNAME:CEST
DTSTART:20240331T010000
END:DAYLIGHT
BEGIN:STANDARD
TZOFFSETFROM:+0200
TZOFFSETTO:+0100
TZNAME:CET
DTSTART:20241027T010000
END:STANDARD
END:VTIMEZONE
BEGIN:VEVENT
DTSTART;TZID=Europe/Berlin:20230701T140000
DTEND;TZID=Europe/Berlin:20230701T160000
DTSTAMP:20260421T201729
CREATED:20230630T194421Z
LAST-MODIFIED:20230630T194421Z
UID:7941-1688220000-1688227200@www.naturschutz-taubergrund.de
SUMMARY:Sa. 01.07.2023 14:00 - 16:00 Uhr Umweltzentrum besetzt
DESCRIPTION:„Das Umweltzentrum der Naturschutzgruppe Taubergrund am Bahnübergang zum Schloss-park öffnet am Samstag\, 1. Juli von 14:00 bis 16:00 Uhr seine Türen und stellt viele neue naturkundliche Plakate vor\, mit denen ein guter Einblick in die Schönheit und Bedeutung von Pflanzen und Tieren gewonnen werden kann.“
URL:http://www.naturschutz-taubergrund.de/event/sa-01-07-2023-1400-1600-uhr-umweltzentrum-besetzt/
LOCATION:Umweltzentrum in MGH am kleinen Bahnübergang zum Kurpark\, Bad Mergentheim\, Herrenmühlstraße 24\, 97980
END:VEVENT
BEGIN:VEVENT
DTSTART;TZID=Europe/Berlin:20230708T100000
DTEND;TZID=Europe/Berlin:20230708T123000
DTSTAMP:20260421T201729
CREATED:20230705T121201Z
LAST-MODIFIED:20230705T171916Z
UID:7944-1688810400-1688819400@www.naturschutz-taubergrund.de
SUMMARY:Sa. 08.07.2023 7. Aktionstag der Kindergruppe Gewässererkundung - Was lebt im Bach?
DESCRIPTION:Einladung der Tauberhüpfer zum 7. Aktionstag in 2023 \nGewässererkundung – Was lebt im Bach? \n  \nSamstag\, den 08.07.2023 von 10:00 Uhr – 12:30 Uhr \nTreffpunkt: Radfahrerbrücke am Wachbach (auf Höhe des Blitzers Richtung Stuppach) \nLiebe Tauberhüpfer\, \nam Samstag\, 08. Juli treffen wir uns wieder zum 7. Aktionstag. Dieses Mal werden wir uns auf eine aufregende Gewässererkundung begeben und die Frage stellen: „Was lebt im Bach?“ Taucht mit uns ein in die geheimnisvolle Unterwasserwelt und entdeckt die faszinierenden Lebewesen\, die in und an unseren heimischen Bächen zuhause sind. \nWir werden gemeinsam lernen\, wie man die verschiedenen Tiere und Pflanzen identifiziert und welche Bedeutung sie für das Ökosystem haben. Außerdem werden wir über den Schutz der Gewässer und die Bedeutung sauberer und gesunder Bäche sprechen. Hierfür könnt ihr gerne eure „Wasseruntersuchungsausrüstung“ wie Eimer\, Kescher und Becherlupen mitbringen. \nBitte denkt daran\, wetterfeste bzw. wasserfeste Kleidung zu tragen\, die auch für den Aufenthalt im Wasser geeignet ist. Es könnte nass und rutschig werden\, also bringt bitte auch entsprechendes Schuhwerk (Wasserschuhe oder alte Turnschuhe) mit. \nLasst uns gemeinsam die Geheimnisse des Baches erkunden. \nDas Leitungsteam\, Sabine und Sabrina\, freuen sich auf eure Teilnahme. \nWir bitten um Anmeldung bis Donnerstag\, 06.07.2023. \nAnmeldung über Mail:  s.neeser@naturschutz-taubergrund.de oder Telefon 0170-3072452.  \n(PS: Bei diesen Veranstaltungen werden Fotos gemacht. Diese können auch für interne Publikationen und Dokumentationen veröffentlicht werden!) 
URL:http://www.naturschutz-taubergrund.de/event/sa-08-07-2023-7-aktionstag-der-kindergruppe-gewaessererkundung-was-lebt-im-bach/
LOCATION:Radfahrerbrücke am Wachbach (auf Höhe des Blitzers Richtung Stuppach)
END:VEVENT
BEGIN:VEVENT
DTSTART;TZID=Europe/Berlin:20230712T120000
DTEND;TZID=Europe/Berlin:20230712T140000
DTSTAMP:20260421T201729
CREATED:20230705T122225Z
LAST-MODIFIED:20230716T084758Z
UID:7947-1689163200-1689170400@www.naturschutz-taubergrund.de
SUMMARY:Mi. 12.07.2023 12:00 Uhr Monatstreff der "Grauen Füchse" beim Baschl in Schönbühl
DESCRIPTION:Die Grauen Füchse\n\n\n\n\n\n\n\nDer Monatstreff im Juli findet am Mittwoch den 12.07.2023 um 12 Uhr im Gasthaus zum Baschl in Schönbühl statt. Treffpunkt zur Bildung von Fahrgemeinschaften ist um 11:30 Uhr der Lidl Parkplatz in der Igersheimer Str. Eine Anmeldung ist bis Montag den 10.07.2023 unter Tel. 07931/3570 bei Helga Meinikheim oder 07931/9612538 Helmut Koch notwendig.
URL:http://www.naturschutz-taubergrund.de/event/mi-10-07-2023-monatstreff-der-grauen-fuechse-beim-baschel-in-schoenbuehl/
LOCATION:Schönbühl Baschl\, Herrenzimmerner Straße 9\, Schönbühl\, 97980
END:VEVENT
BEGIN:VEVENT
DTSTART;TZID=Europe/Berlin:20230722T140000
DTEND;TZID=Europe/Berlin:20230722T160000
DTSTAMP:20260421T201729
CREATED:20230721T174606Z
LAST-MODIFIED:20230721T174606Z
UID:7963-1690034400-1690041600@www.naturschutz-taubergrund.de
SUMMARY:Sa. 22.07.2023 14:00 - 16:00 Uhr Umweltzentrum geöffnet.
DESCRIPTION:„Am Sonnabend den 22.07.2023 ist das Umweltzentrum der Naturschutzgruppe Taubergrund am Bahnübergang zum Schlosspark zum letzten Mal vor der Sommerpause geöffnet. Von 14 bis 16 Uhr  können sich die Bewohner und Besucher hier vor Ort über die verschiedensten Bereiche in Sachen Natur- und Umweltschutz informieren und Anschauungsmaterial bekommen. \nHerr Friedrich Dosch erwartet und freut sich auf Sie…….
URL:http://www.naturschutz-taubergrund.de/event/sa-22-07-2023-1400-1600-uhr-umweltzentrum-geoeffnet/
LOCATION:Umweltzentrum in MGH am kleinen Bahnübergang zum Kurpark\, Bad Mergentheim\, Herrenmühlstraße 24\, 97980
END:VEVENT
END:VCALENDAR