BEGIN:VCALENDAR
VERSION:2.0
PRODID:-// - ECPv6.15.20//NONSGML v1.0//EN
CALSCALE:GREGORIAN
METHOD:PUBLISH
X-ORIGINAL-URL:http://www.naturschutz-taubergrund.de
X-WR-CALDESC:Veranstaltungen für 
REFRESH-INTERVAL;VALUE=DURATION:PT1H
X-Robots-Tag:noindex
X-PUBLISHED-TTL:PT1H
BEGIN:VTIMEZONE
TZID:Europe/Berlin
BEGIN:DAYLIGHT
TZOFFSETFROM:+0100
TZOFFSETTO:+0200
TZNAME:CEST
DTSTART:20220327T010000
END:DAYLIGHT
BEGIN:STANDARD
TZOFFSETFROM:+0200
TZOFFSETTO:+0100
TZNAME:CET
DTSTART:20221030T010000
END:STANDARD
BEGIN:DAYLIGHT
TZOFFSETFROM:+0100
TZOFFSETTO:+0200
TZNAME:CEST
DTSTART:20230326T010000
END:DAYLIGHT
BEGIN:STANDARD
TZOFFSETFROM:+0200
TZOFFSETTO:+0100
TZNAME:CET
DTSTART:20231029T010000
END:STANDARD
BEGIN:DAYLIGHT
TZOFFSETFROM:+0100
TZOFFSETTO:+0200
TZNAME:CEST
DTSTART:20240331T010000
END:DAYLIGHT
BEGIN:STANDARD
TZOFFSETFROM:+0200
TZOFFSETTO:+0100
TZNAME:CET
DTSTART:20241027T010000
END:STANDARD
END:VTIMEZONE
BEGIN:VEVENT
DTSTART;TZID=Europe/Berlin:20231007T140000
DTEND;TZID=Europe/Berlin:20231007T160000
DTSTAMP:20260421T154234
CREATED:20231009T105606Z
LAST-MODIFIED:20231009T105606Z
UID:8117-1696687200-1696694400@www.naturschutz-taubergrund.de
SUMMARY:Umweltzentrum geöffnet Sa. 07.10.2023 14:00 - 16:00
DESCRIPTION:Das Umweltzentrum der Naturschutzgruppe Taubergrund am Bahnübergang zum Schlosspark ist am Samstag\, 07.10.2023\, von 14:00 bis 16:00 geöffnet. Besucher können mit einem Mitglied der NSG über die verschiedenen Arbeitskreise und Aktivitäten der Gruppe ins Gespräch kommen und sich über das Thema „Wanderungen durch die Jahreszeiten“ informieren.
URL:http://www.naturschutz-taubergrund.de/event/umweltzentrum-geoeffnet-sa-07-10-2023-1400-1600/
LOCATION:Umweltzentrum in MGH am kleinen Bahnübergang zum Kurpark\, Bad Mergentheim\, Herrenmühlstraße 24\, 97980
END:VEVENT
BEGIN:VEVENT
DTSTART;TZID=Europe/Berlin:20231010T120000
DTEND;TZID=Europe/Berlin:20231010T140000
DTSTAMP:20260421T154234
CREATED:20231003T132846Z
LAST-MODIFIED:20231006T085007Z
UID:8075-1696939200-1696946400@www.naturschutz-taubergrund.de
SUMMARY:Monatstreff der "Grauen Füchse"
DESCRIPTION:Die „Grauen Füchse“ treffen sich: \nDer Monatstreff im Oktober findet am Dienstag den 10.10.2023 um 12:00 Uhr im Goldstück in der Mühlwehr Str. 25 statt. Eine Anmeldung ist bis Montag den 09.10.2023 unter Tel. 07931/3570 bei Helga Meinikheim notwendig.
URL:http://www.naturschutz-taubergrund.de/event/di-10-10-2023-monatstreff-der-grauen-fuechse/
LOCATION:Gaststätte Goldstück\, Mühlwehr Str. 25\, MGH
END:VEVENT
BEGIN:VEVENT
DTSTART;TZID=Europe/Berlin:20231014T100000
DTEND;TZID=Europe/Berlin:20231014T123000
DTSTAMP:20260421T154234
CREATED:20231010T080113Z
LAST-MODIFIED:20231010T080113Z
UID:8132-1697277600-1697286600@www.naturschutz-taubergrund.de
SUMMARY:Sa. 14.10.2023 10:00 - 12:30 Kindergruppe "Tauberhüpfer" erkunden Pilze
DESCRIPTION:Einladung der Tauberhüpfer zum 10. Aktionstag in 2023\nPilze – seltsame Wesen – Nicht Pflanze & nur ein bisschen Tier! \nSamstag\, den 14.10.2023 von 10:00 Uhr – 12:30 Uhr\nTreffpunkt: Sportplatz Neunkirchen (Wolfental) \nLiebe Tauberhüpfer\, \nam Samstag\, 14. Oktober treffen wir uns wieder zum 10. Aktionstag. Dieses Mal steht unser Aktionstag unter dem faszinierenden Motto „Pilze – seltsame Wesen – Nicht Pflanze & nur ein bisschen Tier!“ \nTreffpunkt für unser aufregendes Abenteuer ist der Sportplatz in Neunkirchen. Im Anschluss fahren wir gemeinsam ins Wolfental. Von dort aus werden wir uns gemeinsam mit der Pilzsachverständige Monika Schmid auf die Erkundung der geheimnisvollen Welt der Pilze begeben. Pilze sind wahrhaftig seltsame Wesen\, die sich einer klaren Einordnung als Pflanzen oder Tiere entziehen. Stattdessen nehmen sie eine einzigartige Position in der Natur ein\, die voller Rätsel steckt und darauf wartet\, von uns entdeckt zu werden. \nBitte denkt daran\, wetterfeste Kleidung sowie Schuhwerk zu tragen\, die auch für den Aufenthalt im Wald geeignet ist. \nDas Leitungsteam\, Sabine und Sabrina\, freuen sich auf eure Teilnahme. \nWir bitten um Anmeldung bis Donnerstag\, 12.10.2023.\nAnmeldung über Mail: s.sandmaier@naturschutz-taubergrund.de oder s.neeser@naturschutz-taubergrund.de oder Telefon 0170-3072452. \n(PS: Bei diesen Veranstaltungen werden Fotos gemacht. Diese können auch für interne Publikationen und Dokumentationen veröffentlicht werden!)
URL:http://www.naturschutz-taubergrund.de/event/sa-14-10-2023-1000-1230-kindergruppe-tauberhuepfer-erkunden-pilze/
LOCATION:Sportplatz Neunkirchen (Wolfental)
END:VEVENT
BEGIN:VEVENT
DTSTART;TZID=Europe/Berlin:20231014T140000
DTEND;TZID=Europe/Berlin:20231014T160000
DTSTAMP:20260421T154234
CREATED:20231009T104629Z
LAST-MODIFIED:20231009T105651Z
UID:8111-1697292000-1697299200@www.naturschutz-taubergrund.de
SUMMARY:Infotag für Neubürger am Sa. 14.10.2023 14:00 - 16:00
DESCRIPTION:Naturschutzgruppe: „Infotag für Neubürger“  \nAm Samstag\, den 14.10.23\, bietet die Naturschutzgruppe Taubergrund einen besonderen Info- Tag für „Neubürger“ an. Von 14:00 bis 16:00 Uhr stehen Mitglieder im Umweltzentrum in der Herrenmühlstraße 24 bereit für umfassende Informationen über die verschiedenen Themen und vielfältige Arbeit des Vereins. \n„Bei uns ist für jeden etwas Interessantes dabei\, bei uns kann ein Jeder mitmachen“\, unter diesem Motto soll allen Neubürger gezeigt werden\, wo und wie sie sich im Natur-\, Umwelt- und Klimaschutz in ihrem neuen Wohnumfeld einbringen können. \nSei es in der Kindergruppe\, den „Tauberhüpfern“\, sei es bei den Senioren\, den „Grauen Füchsen“\, oder in den anderen zahlreichen Fachbereichen und Arbeitskreisen wie Pilzkunde\, Insekten\, Vogelkunde\, Gewässer\, Botanik\, Verkehr\, Energie oder auch ganz tatkräftig in der Landschaftspflege. Zahlreiche ökologisch besonders wertvolle Flächen müssen nämlich jedes Jahr gepflegt werden.  \nGerade die ganz aktuellen dramatischen Entwicklungen im Bereich der drastisch schwindenden Biodiversität oder der teils vrerheerenden Auswirkungen des Klimawandels erfordert unser aller Engagement. \nDer Einsatz lohnt sich für uns und vor allem auch für unsere Kinder. \n 
URL:http://www.naturschutz-taubergrund.de/event/infotag-fuer-neubuerger-am-sa-07-10-2023-1400-1600/
LOCATION:Umweltzentrum in MGH am kleinen Bahnübergang zum Kurpark\, Bad Mergentheim\, Herrenmühlstraße 24\, 97980
END:VEVENT
BEGIN:VEVENT
DTSTART;TZID=Europe/Berlin:20231017T180000
DTEND;TZID=Europe/Berlin:20231017T193000
DTSTAMP:20260421T154234
CREATED:20231013T180020Z
LAST-MODIFIED:20231013T180020Z
UID:8137-1697565600-1697571000@www.naturschutz-taubergrund.de
SUMMARY:vhs MGH Klimaerwärmung - Vortrag - Hans Jonas beleuchtet dies näher
DESCRIPTION:https://visit.bad-mergentheim.de/de/kultur-schloss-genuss/veranstaltungen/klimakrise-aus-ethischer-sicht-id_238796/ \nDie Klimakrise nimmt immer dramatischere Ausmaße an. Ob es um das Abschmelzen der Polkappen\, Waldbrände in den gemäßigten Breiten und den Subtropen oder Wirbelstürme und Überschwemmungen in den Tropen geht: Immer mehr Menschen weltweit sind von den Auswirkungen der Klimaerwärmung betroffen. Die politischen Auseinandersetzungen zwischen Befürwortern und Kritikern schärferer Klimaschutzmaßnahmen nehmen ebenso zu. In Deutschland war der Kampf gegen die Klimaerwärmung bereits Gegenstand eines Urteils des Bundesverfassungsgerichtes\, das die Pflicht des Staates zum Schutz der natürlichen Lebensgrundlagen betonte. Aber welche philosophischen Positionen und ethischen Grundsätze können uns dabei helfen\, verschiedene klimapolitische Positionen und Maßnahmen gegen den Klimawandel zu beurteilen? Der Vortrag beschäftigt sich mit umweltethischen Grundpositionen und beleuchtet näher die Verantwortungsethik nach Hans Jonas. \n  \nAnmeldung bei der vhs unter Telefon 07931 574300\, per E-Mail an vhs@bad-mergentheim.de und im Internet unter www.vhsmgh.de. \n\nDienstag\, 17.10.2023\, 18:00 Uhr – 19:30 Uhr \nAnschrift des Veranstaltungsortes\nVolkshochschule\nMarktplatz 1\n97980 Bad Mergentheim
URL:http://www.naturschutz-taubergrund.de/event/vhs-mgh-klimaerwaermung-vortrag-hans-jonas-beleuchtet-dies-naeher/
END:VEVENT
BEGIN:VEVENT
DTSTART;TZID=Europe/Berlin:20231021T140000
DTEND;TZID=Europe/Berlin:20231021T160000
DTSTAMP:20260421T154234
CREATED:20231015T163111Z
LAST-MODIFIED:20231015T164010Z
UID:8144-1697896800-1697904000@www.naturschutz-taubergrund.de
SUMMARY:Pilzlehrführung Arbeitskreis Pilzkunde 2023
DESCRIPTION:http://www.naturschutz-taubergrund.de/wp-content/uploads/2023/10/02_Pilzlehrfhrung_2023-10-21.pdf \nWann: 21.10.2023 14:00 bis ca. 16:00 \nWo: Treffpunkt Sportplatz Neunkirchen \nReferent: Andreas Strupp Pilzsachverständiger DgfM \n \nDer Arbeitskreis Pilzkunde der Naturschutzgruppe Taubertal lädt hiermit zur jährlichen Plilzlehrführung ein. \nWir werden bei unserer ca. 2-stündigen Wanderung immer wieder gemeinsam die vorfindbaren Pilze besprechen. Dazu zählt auch die Verwendbarkeit in der Küche\, doch liegt der Schwerpunkt auf der Arten- bez. Gattungsbestimmung und der Bedeutung im Ökosystem Wald. \nIch lade Sie ein Pilze als faszinierende Studienobjekte zu entdecken; eine Lebensform welche weder Pflanze noch Tier ist und z.B. statt Gewebe aus nur locker verschlungen Pilzfäden besteht… \nWir bitten Sie auf Speisepilzaufsammlungen zu verzichten – Körbchen können aber helfen die Pilze zum gemeinsamen Bestimmung zu bringen ohne z.B. Detailmerkmale am Stiel zu verwischen. \nDie Teilnehmeranzahl ist auf 25 Personen beschränkt; eine Voranmeldung ist erforderlich entweder \nper E-Mail \nan.and.jo@gmx.de \noder Telefon: \n09338/90183 \nDie Führung ist kostenlos\, um eine Spende für die Naturschutzarbeit wird gebeten. \n 
URL:http://www.naturschutz-taubergrund.de/event/pilzlehrfuehrung-arbeitskreis-pilzkunde-2023/
LOCATION:Parkplatz am Sportplatz Neunkirchen\, Am Wolfental 1
END:VEVENT
BEGIN:VEVENT
DTSTART;TZID=Europe/Berlin:20231021T140000
DTEND;TZID=Europe/Berlin:20231021T160000
DTSTAMP:20260421T154234
CREATED:20231020T132220Z
LAST-MODIFIED:20231020T132440Z
UID:8178-1697896800-1697904000@www.naturschutz-taubergrund.de
SUMMARY:Sa. 21.10.2023 14:00 - 16:00 UWZ - Holger Schmitt ist da
DESCRIPTION:„Am Samstag\, 21.10.2023\, kommt der Fotograf Holger Schmitt von 14:00 bis 16:00 ins Umweltzentrum der Naturschutzgruppe Taubergrund am Bahnübergang zum Schlosspark. Er kann anschaulich über die Möglichkeiten der Fotografie in der Natur und den Lebewesen darin berichten und Tipps geben. Zudem informiert er gerne über die verschiedenen Arbeitskreise und Aktivitäten der Gruppe.“  
URL:http://www.naturschutz-taubergrund.de/event/sa-21-10-2023-1400-1600-uwz-von-holger-schmitt/
LOCATION:Umweltzentrum in MGH am kleinen Bahnübergang zum Kurpark\, Bad Mergentheim\, Herrenmühlstraße 24\, 97980
END:VEVENT
BEGIN:VEVENT
DTSTART;TZID=Europe/Berlin:20231028T140000
DTEND;TZID=Europe/Berlin:20231028T160000
DTSTAMP:20260421T154234
CREATED:20231024T203829Z
LAST-MODIFIED:20231024T203829Z
UID:8186-1698501600-1698508800@www.naturschutz-taubergrund.de
SUMMARY:Sa. 28.10.2023 14:00-16:00 UWZ geöffnet
DESCRIPTION:Es ergeht die herzliche Einladung\, das Umweltzentrum der Naturschutzgruppe Taubergrund am Bahnübergang zum Schlosspark kennenzulernen\, herumzustöbern und in Kontakt zu treten. Am Samstag\, 28.10.2023 ist es von 14:00 bis 16:00 Uhr geöffnet.
URL:http://www.naturschutz-taubergrund.de/event/sa-28-10-2023-1400-1600-uwz-geoeffnet/
LOCATION:Umweltzentrum in MGH am kleinen Bahnübergang zum Kurpark\, Bad Mergentheim\, Herrenmühlstraße 24\, 97980
END:VEVENT
END:VCALENDAR